BEGIN:VCALENDAR
VERSION:2.0
PRODID:-//Library Market//iCal Export//EN
BEGIN:VEVENT
SUMMARY:LitLoot
UID:60882
DTSTAMP:20260421T130300Z
DTSTART:20260401T050000Z
DTEND:20260413T050000Z
LOCATION:
DESCRIPTION:LitLoot is a free literary subscription box filled with a cust
 om selected library book and other free goodies! We’ll contact you when 
 your box is ready for pickup at the end of the month.Subscriptions are lim
 ited, so register early. Library card required. Grades 9-12
URL:https://www.mgpl.org/event/litloot-60882
END:VEVENT
END:VCALENDAR
