BEGIN:VCALENDAR
VERSION:2.0
PRODID:-//Library Market//iCal Export//EN
BEGIN:VEVENT
SUMMARY:Meet the New Catalog
UID:66434
DTSTAMP:20260424T163100Z
DTSTART:20260513T200000Z
DTEND:20260513T210000Z
LOCATION:6140 Lincoln Avenue, Morton Grove, IL 60053, United States
ROOM: East Entrance
DESCRIPTION:Drop by for a hands‑on look at our new catalog. Staff will g
 uide you through its updated tools and features.
URL:https://www.mgpl.org/event/meet-new-catalog-66434
END:VEVENT
END:VCALENDAR
