BEGIN:VCALENDAR
VERSION:2.0
PRODID:-//Library Market//iCal Export//EN
BEGIN:VEVENT
SUMMARY:Meet the New Catalog
UID:66440
DTSTAMP:20260424T091500Z
DTSTART:20260521T160000Z
DTEND:20260521T170000Z
LOCATION:6140 Lincoln Avenue, Morton Grove, IL 60053, United States
ROOM: East Entrance
DESCRIPTION:Drop by for a hands‑on look at our new catalog. Staff will g
 uide you through its updated tools and features.
URL:https://www.mgpl.org/event/meet-new-catalog-66440
END:VEVENT
END:VCALENDAR
