BEGIN:VCALENDAR
VERSION:2.0
PRODID:-//Library Market//iCal Export//EN
BEGIN:VEVENT
SUMMARY:Spring Music Recital
UID:66459
DTSTAMP:20260420T101900Z
DTSTART:20260527T231500Z
DTEND:20260528T011500Z
LOCATION:6140 Lincoln Avenue, Morton Grove, IL 60053, United States
ROOM: Baxter Auditorium
DESCRIPTION:Spring Music Recital
URL:https://www.mgpl.org/event/spring-music-recital-66459
END:VEVENT
END:VCALENDAR
