BEGIN:VCALENDAR
VERSION:2.0
PRODID:-//Library Market//iCal Export//EN
BEGIN:VEVENT
SUMMARY:Morton Grove Park District: Voice and Piano Recital
UID:66492
DTSTAMP:20260422T163000Z
DTSTART:20260521T230000Z
DTEND:20260522T011500Z
LOCATION:6140 Lincoln Avenue, Morton Grove, IL 60053, United States
ROOM: Baxter Auditorium
DESCRIPTION:Children&#039;s piano recital
URL:https://www.mgpl.org/event/morton-grove-park-district-voice-and-piano-
 recital-66492
END:VEVENT
END:VCALENDAR
